BEGIN:VCALENDAR
VERSION:2.0
PRODID:-//116.0.23.250//NONSGML kigkonsult.se iCalcreator 2.20//
CALSCALE:GREGORIAN
METHOD:PUBLISH
X-WR-TIMEZONE:UTC
BEGIN:VEVENT
UID:event27@North Parramatta Sinhala School
DTSTAMP:20200227T171239Z
CATEGORIES:Events
DESCRIPTION:Mahawansa Exhibition\nCategory: Events\nLink: http://sinhalasch
 ool.org.au/index.php?option=com_jem&view=event&id=27:mahawansa-exhibition
 \n
DTSTART;VALUE=DATE:20190818
DTEND;VALUE=DATE:20190819
SUMMARY:Mahawansa Exhibition
URL:http://sinhalaschool.org.au/index.php?option=com_jem&view=event&id=27:m
 ahawansa-exhibition
END:VEVENT
BEGIN:VEVENT
UID:event28@North Parramatta Sinhala School
DTSTAMP:20200227T171239Z
CATEGORIES:Events
DESCRIPTION:Sing A Long\nCategory: Events\nLink: http://sinhalaschool.org.a
 u/index.php?option=com_jem&view=event&id=28:sing-a-long\n
DTSTART;VALUE=DATE:20190928
DTEND;VALUE=DATE:20190929
SUMMARY:Sing A Long
URL:http://sinhalaschool.org.au/index.php?option=com_jem&view=event&id=28:s
 ing-a-long
END:VEVENT
END:VCALENDAR
